BEGIN:VCALENDAR
VERSION:2.0
PRODID:-//Eventin//Event Calendar//EN
CALSCALE:GREGORIAN
METHOD:PUBLISH
BEGIN:VEVENT
UID:c71bd571242fd839be3e5b9dd4670332@cruwinery.com
SUMMARY:Wine & Macaron Pairing - Central Valley
DESCRIPTION:Celebrate Mom with a sweet and sophisticated experience.\nJoin 
 us at CRU Winery Central Valley for a curated pairing of delicate macarons 
 and a thoughtfully crafted wine flight\, the perfect way to treat your mom 
 or yourself this Mother’s Day season.\nDates May 1 to 3 and May 8 to 10\n
 Pricing• 35 dollars per person non club• 20 dollars per person CRU Club
  members• 15 dollars per person Founders Club members• Complimentary fo
 r 2 guests for Light Bright Wines Club members\nA delightful blend of flavo
 rs\, elegance\, and quality time.\nMust be booked in advance. Spots are lim
 ited. Reserve your experience today.\n\n\nBOOK TICKETS HERE
LOCATION:CRU Winery Central Valley 
DTSTAMP:20260422T155847Z
DTSTART:20260501T180000Z
DTEND:20260510T230000Z
END:VEVENT
END:VCALENDAR
